BEGIN:VCALENDAR
VERSION:2.0
PRODID:-//Ken Anderson Alliance - ECPv6.15.20//NONSGML v1.0//EN
CALSCALE:GREGORIAN
METHOD:PUBLISH
X-ORIGINAL-URL:https://kenandersonalliance.org
X-WR-CALDESC:Events for Ken Anderson Alliance
REFRESH-INTERVAL;VALUE=DURATION:PT1H
X-Robots-Tag:noindex
X-PUBLISHED-TTL:PT1H
BEGIN:VTIMEZONE
TZID:America/New_York
BEGIN:DAYLIGHT
TZOFFSETFROM:-0500
TZOFFSETTO:-0400
TZNAME:EDT
DTSTART:20250309T070000
END:DAYLIGHT
BEGIN:STANDARD
TZOFFSETFROM:-0400
TZOFFSETTO:-0500
TZNAME:EST
DTSTART:20251102T060000
END:STANDARD
BEGIN:DAYLIGHT
TZOFFSETFROM:-0500
TZOFFSETTO:-0400
TZNAME:EDT
DTSTART:20260308T070000
END:DAYLIGHT
BEGIN:STANDARD
TZOFFSETFROM:-0400
TZOFFSETTO:-0500
TZNAME:EST
DTSTART:20261101T060000
END:STANDARD
BEGIN:DAYLIGHT
TZOFFSETFROM:-0500
TZOFFSETTO:-0400
TZNAME:EDT
DTSTART:20270314T070000
END:DAYLIGHT
BEGIN:STANDARD
TZOFFSETFROM:-0400
TZOFFSETTO:-0500
TZNAME:EST
DTSTART:20271107T060000
END:STANDARD
END:VTIMEZONE
BEGIN:VEVENT
DTSTART;TZID=America/New_York:20260426T140000
DTEND;TZID=America/New_York:20260426T160000
DTSTAMP:20260419T093042
CREATED:20260415T173318Z
LAST-MODIFIED:20260415T173318Z
UID:21710-1777212000-1777219200@kenandersonalliance.org
SUMMARY:Spring Music Therapy Concert
DESCRIPTION:Don’t miss the KAA Spring Music Therapy Concert April 26th!\n\n\n\n\n\n\n\nCome get your groove on at Fretboard Brewing Company Blue Ash\, Sunday\, April 26th from 2-4 pm. \n\nSee KAA Music Therapy bands performing pop and rock hits!\nFretboard Brewery will donate proceeds to KAA from food and beverage sales!\nAll are welcome\, no RSVP required
URL:https://kenandersonalliance.org/event/spring-music-therapy-concert/
LOCATION:Fretboard Brewing\, 5800 Creek Rd.\, Cincinnati\, OH\, 45242\, United States
CATEGORIES:Music Events
ATTACH;FMTTYPE=image/jpeg:https://kenandersonalliance.org/wp-content/uploads/2026/04/Music-Concert-Banner-scaled.jpg
ORGANIZER;CN="Ken Anderson Alliance":MAILTO:info@kenandersonalliance.org
END:VEVENT
END:VCALENDAR